BEGIN:VCALENDAR
VERSION:2.0
PRODID:DPCALENDAR
CALSCALE:GREGORIAN
BEGIN:VTIMEZONE
TZID:Europe/Berlin
X-MICROSOFT-CDO-TZID:4
BEGIN:STANDARD
DTSTART:20251026T010000
TZOFFSETFROM:+0200
TZOFFSETTO:+0100
TZNAME:CET
END:STANDARD
BEGIN:DAYLIGHT
DTSTART:20260329T010000
TZOFFSETFROM:+0100
TZOFFSETTO:+0200
TZNAME:CEST
END:DAYLIGHT
BEGIN:STANDARD
DTSTART:20261025T010000
TZOFFSETFROM:+0200
TZOFFSETTO:+0100
TZNAME:CET
END:STANDARD
END:VTIMEZONE
X-WR-TIMEZONE:Europe/Berlin
BEGIN:VEVENT
DTSTART;TZID=Europe/Berlin:20260424T180000
DTEND;TZID=Europe/Berlin:20260424T193000
UID:ACF50944-674B-43FF-95EC-3BEA13AE03E4
SUMMARY:Juka Probe
DTSTAMP:20260424T081058Z
DESCRIPTION:
X-ALT-DESC;FMTTYPE=text/html:
LAST-MODIFIED:20260424T081058Z
X-ACCESS:1
X-HITS:0
X-URL:https://www.google.com/calendar/event?eid=Xzg1MWtjZDlnNzRxMzhiOW02c3E0NGI5azZkMzRjYjlwNmwyazZiOWo4OTJrMmM5ajg1MmowY3E1NmcgNm9iaWV2MnJ1dW9lMHJ2c2Jiam1nMjBxOTBAZw
X-COLOR:326E32
END:VEVENT
END:VCALENDAR